BEGIN:VCALENDAR
VERSION:2.0
PRODID:-//Town Of Turbeville - ECPv6.15.12.2//NONSGML v1.0//EN
CALSCALE:GREGORIAN
METHOD:PUBLISH
X-WR-CALNAME:Town Of Turbeville
X-ORIGINAL-URL:https://townofturbeville.com
X-WR-CALDESC:Events for Town Of Turbeville
REFRESH-INTERVAL;VALUE=DURATION:PT1H
X-Robots-Tag:noindex
X-PUBLISHED-TTL:PT1H
BEGIN:VTIMEZONE
TZID:America/New_York
BEGIN:DAYLIGHT
TZOFFSETFROM:-0500
TZOFFSETTO:-0400
TZNAME:EDT
DTSTART:20210314T070000
END:DAYLIGHT
BEGIN:STANDARD
TZOFFSETFROM:-0400
TZOFFSETTO:-0500
TZNAME:EST
DTSTART:20211107T060000
END:STANDARD
BEGIN:DAYLIGHT
TZOFFSETFROM:-0500
TZOFFSETTO:-0400
TZNAME:EDT
DTSTART:20220313T070000
END:DAYLIGHT
BEGIN:STANDARD
TZOFFSETFROM:-0400
TZOFFSETTO:-0500
TZNAME:EST
DTSTART:20221106T060000
END:STANDARD
BEGIN:DAYLIGHT
TZOFFSETFROM:-0500
TZOFFSETTO:-0400
TZNAME:EDT
DTSTART:20230312T070000
END:DAYLIGHT
BEGIN:STANDARD
TZOFFSETFROM:-0400
TZOFFSETTO:-0500
TZNAME:EST
DTSTART:20231105T060000
END:STANDARD
END:VTIMEZONE
BEGIN:VEVENT
DTSTART;TZID=America/New_York:20220809T160000
DTEND;TZID=America/New_York:20220809T180000
DTSTAMP:20260422T144034
CREATED:20220726T150714Z
LAST-MODIFIED:20220726T150714Z
UID:1132-1660060800-1660068000@townofturbeville.com
SUMMARY:Power Hours
DESCRIPTION:Stop in to talk with a representative about your bill or other Duke Energy questions.
URL:https://townofturbeville.com/event/power-hours/
LOCATION:Town Hall\, 1400 Main Street\, Turbeville\, 29162\, United States
CATEGORIES:General Events
ATTACH;FMTTYPE=image/jpeg:https://townofturbeville.com/wp-content/uploads/2022/07/Logo-DukeEnergy-1_mid.jpeg
END:VEVENT
END:VCALENDAR